BEGIN:VCALENDAR
VERSION:2.0
PRODID:-//ChamberMaster//Event Calendar 2.0//EN
METHOD:PUBLISH
X-PUBLISHED-TTL:P3D
REFRESH-INTERVAL:P3D
CALSCALE:GREGORIAN
BEGIN:VEVENT
DTSTART;VALUE=DATE:20100225
DTEND;VALUE=DATE:20100226
TRANSP:TRANSPARENT
X-MICROSOFT-CDO-ALLDAYEVENT:TRUE
SUMMARY:Start the New Year Off Right
DESCRIPTION:Corey Stern John Forssander Tim O'Brien Andrew Cory will be your featured speakers for this event.
X-ALT-DESC;FMTTYPE=text/html:Corey Stern John Forssander Tim O'Brien Andrew Cory will be your featured speakers for this event.&nbsp\;
LOCATION:801 Warrenville Rd Lisle\, IL 60000
UID:e.9259.196
SEQUENCE:3
DTSTAMP:20260421T221412Z
URL:https://members.biagc.org/events/details/start-the-new-year-off-right-02-25-2010-196
END:VEVENT

END:VCALENDAR
