BEGIN:VCALENDAR
VERSION:2.0
PRODID:-//ChamberMaster//Event Calendar 2.0//EN
METHOD:PUBLISH
X-PUBLISHED-TTL:P3D
REFRESH-INTERVAL:P3D
CALSCALE:GREGORIAN
BEGIN:VEVENT
DTSTART;VALUE=DATE:20091217
DTEND;VALUE=DATE:20091218
TRANSP:TRANSPARENT
X-MICROSOFT-CDO-ALLDAYEVENT:TRUE
SUMMARY:SMC Spirit of Millions Past Holiday Party
DESCRIPTION:Come and enjoy rekindling relationships of days gone by - watch some videos of past - enjoy great food and drinks. Please bring a dish to pass and a beverage for this event.
X-ALT-DESC;FMTTYPE=text/html:Come and enjoy rekindling relationships of days gone by - watch some videos of past - enjoy great food and drinks. Please bring a dish to pass and a beverage for this event.
LOCATION:1101 S Hidden Brook Trail Palatine\, IL 60657
UID:e.9259.194
SEQUENCE:3
DTSTAMP:20260422T000254Z
URL:https://members.biagc.org/events/details/smc-spirit-of-millions-past-holiday-party-12-17-2009-194
END:VEVENT

END:VCALENDAR
