BEGIN:VCALENDAR
VERSION:2.0
PRODID:-//ChamberMaster//Event Calendar 2.0//EN
METHOD:PUBLISH
X-PUBLISHED-TTL:P3D
REFRESH-INTERVAL:P3D
CALSCALE:GREGORIAN
BEGIN:VEVENT
DTSTART;VALUE=DATE:20110127
DTEND;VALUE=DATE:20110128
TRANSP:TRANSPARENT
X-MICROSOFT-CDO-ALLDAYEVENT:TRUE
SUMMARY:SMC 2011 Kick Off: Guiding you through the New Home Sales Maze
DESCRIPTION:
X-ALT-DESC;FMTTYPE=text/html:
LOCATION:1225 W. 22nd St. Room 130 Oak Brook\, IL 60000
UID:e.9259.192
SEQUENCE:3
DTSTAMP:20260420T191118Z
URL:https://members.biagc.org/events/details/smc-2011-kick-off-guiding-you-through-the-new-home-sales-maze-01-27-2011-192
END:VEVENT

END:VCALENDAR
