BEGIN:VCALENDAR
VERSION:2.0
PRODID:-//ChamberMaster//Event Calendar 2.0//EN
METHOD:PUBLISH
X-PUBLISHED-TTL:P3D
REFRESH-INTERVAL:P3D
CALSCALE:GREGORIAN
BEGIN:VEVENT
DTSTART;VALUE=DATE:20090626
DTEND;VALUE=DATE:20090627
TRANSP:TRANSPARENT
X-MICROSOFT-CDO-ALLDAYEVENT:TRUE
SUMMARY:Remodelers/Custom Builders Day At The Lake
DESCRIPTION:Last year we enjoyed the comforts that South Shore Club offer to its residents thanks to the gracious invitation of the Pickells - Please join us again for this fun afternoon in the sun.  Bring your swimsuits.  Catch the rays.
X-ALT-DESC;FMTTYPE=text/html:Last year we enjoyed the comforts that South Shore Club offer to its residents thanks to the gracious invitation of the Pickells - Please join us again for this fun afternoon in the sun.&nbsp\; Bring your swimsuits.&nbsp\; Catch the rays. &nbsp\;
LOCATION:W4598 S. Lakeshore Lake Geneva\, WI 53147
UID:e.9259.184
SEQUENCE:3
DTSTAMP:20260422T135246Z
URL:https://members.biagc.org/events/details/remodelers-custom-builders-day-at-the-lake-06-26-2009-184
END:VEVENT

END:VCALENDAR
