BEGIN:VCALENDAR
VERSION:2.0
PRODID:-//ChamberMaster//Event Calendar 2.0//EN
METHOD:PUBLISH
X-PUBLISHED-TTL:P3D
REFRESH-INTERVAL:P3D
CALSCALE:GREGORIAN
BEGIN:VEVENT
DTSTART;VALUE=DATE:20091204
DTEND;VALUE=DATE:20091205
TRANSP:TRANSPARENT
X-MICROSOFT-CDO-ALLDAYEVENT:TRUE
SUMMARY:Remodelers/Custom Builders
DESCRIPTION:HBAGC Remodeler's/Custom Builders Council Invites You to Attend Our Annual Holiday Luncheon Hosted By the Westye Group Midwest FRIDAY\, DECEMBER 4\, 2009 NOON   2:00 PM 196 Exchange Boulevard Glendale Heights\, Illinois 60139 (630) 872-5100 RSVP To: Rita Unzner at runzner@hbagc.com Please join us in thanking our 2009 Board Members and welcoming in our 2010 Board
X-ALT-DESC;FMTTYPE=text/html:HBAGC Remodeler&rsquo\;s/Custom Builders Council Invites You to Attend Our Annual Holiday Luncheon Hosted By the Westye Group Midwest FRIDAY\, DECEMBER 4\, 2009 NOON &ndash\; 2:00 PM 196 Exchange Boulevard Glendale Heights\, Illinois 60139 (630) 872-5100 RSVP To: Rita Unzner at runzner@hbagc.com Please join us in thanking our 2009 Board Members and welcoming in our 2010 Board  &nbsp\; &nbsp\;
LOCATION:196 Exchange Blvd. Glendale Heights\, IL 60139
UID:e.9259.182
SEQUENCE:3
DTSTAMP:20260421T235921Z
URL:https://members.biagc.org/events/details/remodelers-custom-builders-12-04-2009-182
END:VEVENT

END:VCALENDAR
