BEGIN:VCALENDAR
VERSION:2.0
PRODID:-//ChamberMaster//Event Calendar 2.0//EN
METHOD:PUBLISH
X-PUBLISHED-TTL:P3D
REFRESH-INTERVAL:P3D
CALSCALE:GREGORIAN
BEGIN:VEVENT
DTSTART;VALUE=DATE:20090818
DTEND;VALUE=DATE:20090819
TRANSP:TRANSPARENT
X-MICROSOFT-CDO-ALLDAYEVENT:TRUE
SUMMARY:Remodelers/Custom Builders
DESCRIPTION:Be ready to show off your Grill Skills\, while cooking on the industry's Finest Outdoor Grills   $10.00 per Member Registration Fee Please RSVP to Rita Unzner 630-627-7575 or runzner@hbagc.com                                             Hosted by Fisher & Paykel Appliances DCS by Fisher & Paykel                                    2445 E. Higgins Rd Elk Grove Village\, IL 60007 847-258-7300
X-ALT-DESC;FMTTYPE=text/html:&nbsp\; Be ready to show off your Grill Skills\, while cooking on the industry&rsquo\;s Finest Outdoor Grills &nbsp\; $10.00 per Member Registration Fee Please RSVP to Rita Unzner 630-627-7575 or runzner@hbagc.com &nbsp\;&nbsp\;&nbsp\;&nbsp\;&nbsp\;&nbsp\;&nbsp\;&nbsp\;&nbsp\;&nbsp\;&nbsp\;&nbsp\;&nbsp\;&nbsp\;&nbsp\;&nbsp\;&nbsp\;&nbsp\;&nbsp\;&nbsp\;&nbsp\;&nbsp\;&nbsp\;&nbsp\;&nbsp\;&nbsp\;&nbsp\;&nbsp\;&nbsp\;&nbsp\;&nbsp\;&nbsp\;&nbsp\;&nbsp\;&nbsp\;&nbsp\;&nbsp\;&nbsp\;&nbsp\;&nbsp\;&nbsp\;&nbsp\;&nbsp\; Hosted by Fisher &amp\; Paykel Appliances DCS by Fisher &amp\; Paykel &nbsp\;&nbsp\;&nbsp\;&nbsp\;&nbsp\;&nbsp\;&nbsp\;&nbsp\;&nbsp\;&nbsp\;&nbsp\;&nbsp\;&nbsp\;&nbsp\;&nbsp\;&nbsp\;&nbsp\;&nbsp\;&nbsp\;&nbsp\;&nbsp\;&nbsp\;&nbsp\;&nbsp\;&nbsp\;&nbsp\;&nbsp\;&nbsp\;&nbsp\;&nbsp\;&nbsp\;&nbsp\;&nbsp\;&nbsp\; 2445 E. Higgins Rd Elk Grove Village\, IL 60007 847-258-7300
LOCATION:
UID:e.9259.180
SEQUENCE:3
DTSTAMP:20260422T091512Z
URL:https://members.biagc.org/events/details/remodelers-custom-builders-08-18-2009-180
END:VEVENT

END:VCALENDAR
