BEGIN:VCALENDAR
VERSION:2.0
PRODID:-//ChamberMaster//Event Calendar 2.0//EN
METHOD:PUBLISH
X-PUBLISHED-TTL:P3D
REFRESH-INTERVAL:P3D
CALSCALE:GREGORIAN
BEGIN:VEVENT
DTSTART;VALUE=DATE:20090722
DTEND;VALUE=DATE:20090723
TRANSP:TRANSPARENT
X-MICROSOFT-CDO-ALLDAYEVENT:TRUE
SUMMARY:Remodelers/Custom Builders
DESCRIPTION:HBAGC REMODELER'S/CUSTOM BUILDERS COUNCIL AFTER HOURS EVENT Wednesday\, July 22\, 2009 6:00   9:00 pm Hosted By Abruzzo Kitchens 1105 Remington Road Schaumburg\, Il. 60173 Please join us for food\, refreshments and a presentation on  KITCHEN TRENDS. Please RSVP to Rita Unzner at runzner@hbagc.com.
X-ALT-DESC;FMTTYPE=text/html:HBAGC REMODELER&rsquo\;S/CUSTOM BUILDERS COUNCIL AFTER HOURS EVENT Wednesday\, July 22\, 2009 6:00 &ndash\; 9:00 pm Hosted By Abruzzo Kitchens 1105 Remington Road Schaumburg\, Il.&nbsp\;60173 Please join us for food\, refreshments and a presentation on  KITCHEN TRENDS. Please RSVP to Rita Unzner at runzner@hbagc.com.
LOCATION:
UID:e.9259.181
SEQUENCE:3
DTSTAMP:20260422T104608Z
URL:https://members.biagc.org/events/details/remodelers-custom-builders-07-22-2009-181
END:VEVENT

END:VCALENDAR
