BEGIN:VCALENDAR
VERSION:2.0
PRODID:-//ChamberMaster//Event Calendar 2.0//EN
METHOD:PUBLISH
X-PUBLISHED-TTL:P3D
REFRESH-INTERVAL:P3D
CALSCALE:GREGORIAN
BEGIN:VEVENT
DTSTART;VALUE=DATE:20100223
DTEND;VALUE=DATE:20100224
TRANSP:TRANSPARENT
X-MICROSOFT-CDO-ALLDAYEVENT:TRUE
SUMMARY:Remodeler Council Lunch and Learn
DESCRIPTION:
X-ALT-DESC;FMTTYPE=text/html:
LOCATION:3250 N. Kedzie Ave. Chicago\, IL 60000
UID:e.9259.174
SEQUENCE:3
DTSTAMP:20260421T204130Z
URL:https://members.biagc.org/events/details/remodeler-council-lunch-and-learn-02-23-2010-174
END:VEVENT

END:VCALENDAR
