BEGIN:VCALENDAR
VERSION:2.0
PRODID:-//ChamberMaster//Event Calendar 2.0//EN
METHOD:PUBLISH
X-PUBLISHED-TTL:P3D
REFRESH-INTERVAL:P3D
CALSCALE:GREGORIAN
BEGIN:VEVENT
DTSTART;VALUE=DATE:20100714
DTEND;VALUE=DATE:20100715
TRANSP:TRANSPARENT
X-MICROSOFT-CDO-ALLDAYEVENT:TRUE
SUMMARY:Regional Board Meeting and After Hours
DESCRIPTION:
X-ALT-DESC;FMTTYPE=text/html:
LOCATION:17W428 22nd St. Oak Brook Terrace\, IL 60181
UID:e.9259.168
SEQUENCE:3
DTSTAMP:20260421T065849Z
URL:https://members.biagc.org/events/details/regional-board-meeting-and-after-hours-07-14-2010-168
END:VEVENT

END:VCALENDAR
