BEGIN:VCALENDAR
VERSION:2.0
PRODID:-//ChamberMaster//Event Calendar 2.0//EN
METHOD:PUBLISH
X-PUBLISHED-TTL:P3D
REFRESH-INTERVAL:P3D
CALSCALE:GREGORIAN
BEGIN:VEVENT
DTSTART;VALUE=DATE:20101006
DTEND;VALUE=DATE:20101007
TRANSP:TRANSPARENT
X-MICROSOFT-CDO-ALLDAYEVENT:TRUE
SUMMARY:Regional Board Meeting & After Hours
DESCRIPTION:Normal   0               false   false   false      EN-US   X-NONE   X-NONE                                                     MicrosoftInternetExplorer4                                                                                                                                                                                                                                                                                                                                                                                                                                                                                        /* Style Definitions */  table.MsoNormalTable    {mso-style-name:"Table Normal"\;    mso-tstyle-rowband-size:0\;    mso-tstyle-colband-size:0\;    mso-style-noshow:yes\;    mso-style-priority:99\;    mso-style-qformat:yes\;    mso-style-parent:""\;    mso-padding-alt:0in 5.4pt 0in 5.4pt\;    mso-para-margin:0in\;    mso-para-margin-bottom:.0001pt\;    mso-pagination:widow-orphan\;    font-size:11.0pt\;    font-family:"Calibri"\,"sans-serif"\;    mso-ascii-font-family:Calibri\;    mso-ascii-theme-font:minor-latin\;    mso-fareast-font-family:"Times New Roman"\;    mso-fareast-theme-font:minor-fareast\;    mso-hansi-font-family:Calibri\;    mso-hansi-theme-font:minor-latin\;}  http://greensource.construction.com/green_building_projects/2010/1001_Aqua-Tower.asp         click on the above link to view our October board meeting location Board Meeting 3-5  Tour of Building 5-6 - Find out all the details on how this building came about  Appetizers (Sponsored by Lincoln Park Financial Group) Cash Bar 6-7
X-ALT-DESC;FMTTYPE=text/html:Normal   0               false   false   false      EN-US   X-NONE   X-NONE                                                     MicrosoftInternetExplorer4                                                                                                                                                                                                                                                                                                                                                                                                                                                                                        /* Style Definitions */  table.MsoNormalTable    {mso-style-name:"Table Normal"\;    mso-tstyle-rowband-size:0\;    mso-tstyle-colband-size:0\;    mso-style-noshow:yes\;    mso-style-priority:99\;    mso-style-qformat:yes\;    mso-style-parent:""\;    mso-padding-alt:0in 5.4pt 0in 5.4pt\;    mso-para-margin:0in\;    mso-para-margin-bottom:.0001pt\;    mso-pagination:widow-orphan\;    font-size:11.0pt\;    font-family:"Calibri"\,"sans-serif"\;    mso-ascii-font-family:Calibri\;    mso-ascii-theme-font:minor-latin\;    mso-fareast-font-family:"Times New Roman"\;    mso-fareast-theme-font:minor-fareast\;    mso-hansi-font-family:Calibri\;    mso-hansi-theme-font:minor-latin\;}  http://greensource.construction.com/green_building_projects/2010/1001_Aqua-Tower.asp         click on the above link to view our October board meeting location Board Meeting 3-5  Tour of Building 5-6 - Find out all the details on how this building came about  Appetizers (Sponsored by Lincoln Park Financial Group) Cash Bar 6-7
LOCATION:430 E. Waterside Dr. Chicago\, IL 60601
UID:e.9259.167
SEQUENCE:3
DTSTAMP:20260421T002611Z
URL:https://members.biagc.org/events/details/regional-board-meeting-after-hours-10-06-2010-167
END:VEVENT

END:VCALENDAR
