BEGIN:VCALENDAR
VERSION:2.0
PRODID:-//ChamberMaster//Event Calendar 2.0//EN
METHOD:PUBLISH
X-PUBLISHED-TTL:P3D
REFRESH-INTERVAL:P3D
CALSCALE:GREGORIAN
BEGIN:VEVENT
DTSTART;VALUE=DATE:20100310
DTEND;VALUE=DATE:20100311
TRANSP:TRANSPARENT
X-MICROSOFT-CDO-ALLDAYEVENT:TRUE
SUMMARY:Regional Board Meeting/After Hours
DESCRIPTION:Executive and finance will meet 1:00 p.m. The Association has a new home - many of you have not seen it - Tracy Hill has remodeled his area to now accomodate our training center from the Addision location\, join us after the board meeting for networking. There will be food and drinks available.
X-ALT-DESC;FMTTYPE=text/html:Executive and finance will meet 1:00 p.m. The Association has a new home - many of you have not seen it - Tracy Hill has remodeled his area to now accomodate our training center from the Addision location\, join us after the board meeting for networking. There will be food and drinks available.
LOCATION:5999 S. New Wilke Rd. Suite 104 Rolling Meadows\, IL 60008
UID:e.9259.169
SEQUENCE:3
DTSTAMP:20260421T185036Z
URL:https://members.biagc.org/events/details/regional-board-meeting-after-hours-03-10-2010-169
END:VEVENT

END:VCALENDAR
