BEGIN:VCALENDAR
VERSION:2.0
PRODID:-//ChamberMaster//Event Calendar 2.0//EN
METHOD:PUBLISH
X-PUBLISHED-TTL:P3D
REFRESH-INTERVAL:P3D
CALSCALE:GREGORIAN
BEGIN:VEVENT
DTSTART;VALUE=DATE:20091118
DTEND;VALUE=DATE:20091119
TRANSP:TRANSPARENT
X-MICROSOFT-CDO-ALLDAYEVENT:TRUE
SUMMARY:Regional Board Meeting
DESCRIPTION:
X-ALT-DESC;FMTTYPE=text/html:
LOCATION:2950 W. Golf Rd. Rolling Meadows\, IL 60008
UID:e.9259.165
SEQUENCE:3
DTSTAMP:20260422T015246Z
URL:https://members.biagc.org/events/details/regional-board-meeting-11-18-2009-165
END:VEVENT

END:VCALENDAR
