BEGIN:VCALENDAR
VERSION:2.0
PRODID:-//ChamberMaster//Event Calendar 2.0//EN
METHOD:PUBLISH
X-PUBLISHED-TTL:P3D
REFRESH-INTERVAL:P3D
CALSCALE:GREGORIAN
BEGIN:VEVENT
DTSTART;VALUE=DATE:20090722
DTEND;VALUE=DATE:20090723
TRANSP:TRANSPARENT
X-MICROSOFT-CDO-ALLDAYEVENT:TRUE
SUMMARY:Regional Board Meeting
DESCRIPTION:
X-ALT-DESC;FMTTYPE=text/html:
LOCATION:1841 W. Army Trail Rd Addison\, IL 60101
UID:e.9259.164
SEQUENCE:3
DTSTAMP:20260422T110543Z
URL:https://members.biagc.org/events/details/regional-board-meeting-07-22-2009-164
END:VEVENT

END:VCALENDAR
