BEGIN:VCALENDAR
VERSION:2.0
PRODID:-//ChamberMaster//Event Calendar 2.0//EN
METHOD:PUBLISH
X-PUBLISHED-TTL:P3D
REFRESH-INTERVAL:P3D
CALSCALE:GREGORIAN
BEGIN:VEVENT
DTSTART;VALUE=DATE:20100525
DTEND;VALUE=DATE:20100526
TRANSP:TRANSPARENT
X-MICROSOFT-CDO-ALLDAYEVENT:TRUE
SUMMARY:National Membership Day
DESCRIPTION:Double spikes will be awarded.
X-ALT-DESC;FMTTYPE=text/html:Double spikes will be awarded. &nbsp\;
LOCATION:5999 S. New Wilke Rd. Suite 108 Rolling Meadows\, IL 60008
UID:e.9259.147
SEQUENCE:3
DTSTAMP:20260421T104723Z
URL:https://members.biagc.org/events/details/national-membership-day-05-25-2010-147
END:VEVENT

END:VCALENDAR
