BEGIN:VCALENDAR
VERSION:2.0
PRODID:-//ChamberMaster//Event Calendar 2.0//EN
METHOD:PUBLISH
X-PUBLISHED-TTL:P3D
REFRESH-INTERVAL:P3D
CALSCALE:GREGORIAN
BEGIN:VEVENT
DTSTART;VALUE=DATE:20090707
DTEND;VALUE=DATE:20090708
TRANSP:TRANSPARENT
X-MICROSOFT-CDO-ALLDAYEVENT:TRUE
SUMMARY:Midwest Builders Show Committee
DESCRIPTION:Join the 2010 Midwest Builders Show host committee as they discuss new features and promotional tactics to make the 2010 Midwest Builders Show a great venue for Builders and Remodelers to find new suppliers and learn the latest in building technologies.  Help bring make the return of the MBS a great show for exhibitors and patrons alike.
X-ALT-DESC;FMTTYPE=text/html:Join the 2010 Midwest Builders Show host committee as they discuss new features and promotional tactics to make the 2010 Midwest Builders Show a great venue for Builders and Remodelers to find new suppliers and learn the latest in building technologies.&nbsp\; Help bring make the return of the MBS a great show for exhibitors and patrons alike. &nbsp\;
LOCATION:
UID:e.9259.142
SEQUENCE:3
DTSTAMP:20260422T110702Z
URL:https://members.biagc.org/events/details/midwest-builders-show-committee-07-07-2009-142
END:VEVENT

END:VCALENDAR
