BEGIN:VCALENDAR
VERSION:2.0
PRODID:-//ChamberMaster//Event Calendar 2.0//EN
METHOD:PUBLISH
X-PUBLISHED-TTL:P3D
REFRESH-INTERVAL:P3D
CALSCALE:GREGORIAN
BEGIN:VEVENT
DTSTART;VALUE=DATE:20090916
DTEND;VALUE=DATE:20090917
TRANSP:TRANSPARENT
X-MICROSOFT-CDO-ALLDAYEVENT:TRUE
SUMMARY:Membership/Communications Meeting
DESCRIPTION:
X-ALT-DESC;FMTTYPE=text/html:
LOCATION:1841 W. Army Trail Rd Addison\, IL 60101
UID:e.9259.141
SEQUENCE:3
DTSTAMP:20260422T072949Z
URL:https://members.biagc.org/events/details/membership-communications-meeting-09-16-2009-141
END:VEVENT

END:VCALENDAR
