BEGIN:VCALENDAR
VERSION:2.0
PRODID:-//ChamberMaster//Event Calendar 2.0//EN
METHOD:PUBLISH
X-PUBLISHED-TTL:P3D
REFRESH-INTERVAL:P3D
CALSCALE:GREGORIAN
BEGIN:VEVENT
DTSTART;VALUE=DATE:20100205
DTEND;VALUE=DATE:20100206
TRANSP:TRANSPARENT
X-MICROSOFT-CDO-ALLDAYEVENT:TRUE
SUMMARY:Leadership Meeting
DESCRIPTION:
X-ALT-DESC;FMTTYPE=text/html:
LOCATION:5999 S. New Wilke Rd. Suite 108 Rolling Meadows\, IL 60101
UID:e.9259.125
SEQUENCE:3
DTSTAMP:20260421T221504Z
URL:https://members.biagc.org/events/details/leadership-meeting-02-05-2010-125
END:VEVENT

END:VCALENDAR
