BEGIN:VCALENDAR
VERSION:2.0
PRODID:-//ChamberMaster//Event Calendar 2.0//EN
METHOD:PUBLISH
X-PUBLISHED-TTL:P3D
REFRESH-INTERVAL:P3D
CALSCALE:GREGORIAN
BEGIN:VEVENT
DTSTART;VALUE=DATE:20101117
DTEND;VALUE=DATE:20101118
TRANSP:TRANSPARENT
X-MICROSOFT-CDO-ALLDAYEVENT:TRUE
SUMMARY:Key Awards/Sammy Awards & Annual Board Meeting
DESCRIPTION:Please note that the Board meeting will be held at 5999 S. New Wilke Rd. Suite 108 (PSI) in the training room and then we will go across the street to where the awards dinner will be held -
X-ALT-DESC;FMTTYPE=text/html:Please note that the Board meeting will be held at 5999 S. New Wilke Rd. Suite 108 (PSI) in the training room and then we will go across the street to where the awards dinner will be held -
LOCATION:1701 Algonquin Rolling Meadows\, IL 60008
UID:e.9259.124
SEQUENCE:3
DTSTAMP:20260420T222402Z
URL:https://members.biagc.org/events/details/key-awards-sammy-awards-annual-board-meeting-11-17-2010-124
END:VEVENT

END:VCALENDAR
