BEGIN:VCALENDAR
VERSION:2.0
PRODID:-//ChamberMaster//Event Calendar 2.0//EN
METHOD:PUBLISH
X-PUBLISHED-TTL:P3D
REFRESH-INTERVAL:P3D
CALSCALE:GREGORIAN
BEGIN:VEVENT
DTSTART:20101216T000000Z
DTEND:20101215T180000Z
X-MICROSOFT-CDO-ALLDAYEVENT:FALSE
SUMMARY:Holiday Lunch - Remodelers/Custom Builders Council
DESCRIPTION:
X-ALT-DESC;FMTTYPE=text/html:
LOCATION:195 Exchange Blvd. Glendale Hgts.\, IL 60139
UID:e.9259.100
SEQUENCE:3
DTSTAMP:20260420T204841Z
URL:https://members.biagc.org/events/details/holiday-lunch-remodelers-custom-builders-council-12-15-2010-100
END:VEVENT

END:VCALENDAR
