BEGIN:VCALENDAR
VERSION:2.0
PRODID:-//ChamberMaster//Event Calendar 2.0//EN
METHOD:PUBLISH
X-PUBLISHED-TTL:P3D
REFRESH-INTERVAL:P3D
CALSCALE:GREGORIAN
BEGIN:VEVENT
DTSTART;VALUE=DATE:20100526
DTEND;VALUE=DATE:20100527
TRANSP:TRANSPARENT
X-MICROSOFT-CDO-ALLDAYEVENT:TRUE
SUMMARY:High Performance Green Council
DESCRIPTION:
X-ALT-DESC;FMTTYPE=text/html:
LOCATION:5999 S. New Wilke Rd. Suite 108 Rolling Meadows\, IL 60008
UID:e.9259.99
SEQUENCE:3
DTSTAMP:20260421T123649Z
URL:https://members.biagc.org/events/details/high-performance-green-council-05-26-2010-99
END:VEVENT

END:VCALENDAR
