BEGIN:VCALENDAR
VERSION:2.0
PRODID:-//ChamberMaster//Event Calendar 2.0//EN
METHOD:PUBLISH
X-PUBLISHED-TTL:P3D
REFRESH-INTERVAL:P3D
CALSCALE:GREGORIAN
BEGIN:VEVENT
DTSTART:20090101T180000Z
DTEND:20091231T180000Z
X-MICROSOFT-CDO-ALLDAYEVENT:FALSE
SUMMARY:HBAGC Miscellaneous Income
DESCRIPTION:To record miscellaneous (non-dues\, non-membership) cash receipts
X-ALT-DESC;FMTTYPE=text/html:To record miscellaneous (non-dues\, non-membership) cash receipts
LOCATION:
UID:e.9259.93
SEQUENCE:3
DTSTAMP:20260422T000019Z
URL:https://members.biagc.org/events/details/hbagc-miscellaneous-income-01-01-2009-93
END:VEVENT

END:VCALENDAR
