BEGIN:VCALENDAR
VERSION:2.0
PRODID:-//ChamberMaster//Event Calendar 2.0//EN
METHOD:PUBLISH
X-PUBLISHED-TTL:P3D
REFRESH-INTERVAL:P3D
CALSCALE:GREGORIAN
BEGIN:VEVENT
DTSTART;VALUE=DATE:20090618
DTEND;VALUE=DATE:20090619
TRANSP:TRANSPARENT
X-MICROSOFT-CDO-ALLDAYEVENT:TRUE
SUMMARY:HBAGC Green Building Committee
DESCRIPTION:Members interested in learning more about the newest "green" techniques\, technology and initiatives are encouraged to become active in this committee.  No cost to attend.  Registration is meant to help HBAGC staff keep track of interest in the committee and estimate overall attendance.
X-ALT-DESC;FMTTYPE=text/html:Members interested in learning more about the newest &quot\;green&quot\; techniques\, technology and initiatives are encouraged to become active in this committee.&nbsp\; No cost to attend.&nbsp\; Registration is meant to help HBAGC staff keep track of interest in the committee and estimate overall attendance.
LOCATION:1841 W. Army Trail Rd Addison\, IL 60101
UID:e.9259.91
SEQUENCE:3
DTSTAMP:20260422T135704Z
URL:https://members.biagc.org/events/details/hbagc-green-building-committee-06-18-2009-91
END:VEVENT

END:VCALENDAR
