BEGIN:VCALENDAR
VERSION:2.0
PRODID:-//ChamberMaster//Event Calendar 2.0//EN
METHOD:PUBLISH
X-PUBLISHED-TTL:P3D
REFRESH-INTERVAL:P3D
CALSCALE:GREGORIAN
BEGIN:VEVENT
DTSTART;VALUE=DATE:20100421
DTEND;VALUE=DATE:20100422
TRANSP:TRANSPARENT
X-MICROSOFT-CDO-ALLDAYEVENT:TRUE
SUMMARY:Energy Code Seminar
DESCRIPTION:This seminar is being brought to you in part by the High Performance Green Building Council
X-ALT-DESC;FMTTYPE=text/html:This seminar is being brought to you in part by the High Performance Green Building Council
LOCATION:5999 S. New Wilke Rd. Suite 108 Rolling Meadows\, IL 60008
UID:e.9259.50
SEQUENCE:3
DTSTAMP:20260421T123441Z
URL:https://members.biagc.org/events/details/energy-code-seminar-04-21-2010-50
END:VEVENT

END:VCALENDAR
