BEGIN:VCALENDAR
VERSION:2.0
PRODID:-//ChamberMaster//Event Calendar 2.0//EN
METHOD:PUBLISH
X-PUBLISHED-TTL:P3D
REFRESH-INTERVAL:P3D
CALSCALE:GREGORIAN
BEGIN:VEVENT
DTSTART;VALUE=DATE:20100603
DTEND;VALUE=DATE:20100604
TRANSP:TRANSPARENT
X-MICROSOFT-CDO-ALLDAYEVENT:TRUE
SUMMARY:Developer Luncheon
DESCRIPTION:Dave Gravel President of the South Chapter is the Chair of this event.  Interested in knowing more?   Contact Dave at     enon_hill@comcast.net  or call Dave at 630-800-8362
X-ALT-DESC;FMTTYPE=text/html:Dave Gravel President of the South Chapter is the Chair of this event.&nbsp\; Interested in knowing more? &nbsp\; Contact Dave at &nbsp\; &nbsp\; enon_hill@comcast.net&nbsp\; or call Dave at 630-800-8362
LOCATION:
UID:e.9259.47
SEQUENCE:3
DTSTAMP:20260421T103155Z
URL:https://members.biagc.org/events/details/developer-luncheon-06-03-2010-47
END:VEVENT

END:VCALENDAR
