BEGIN:VCALENDAR
VERSION:2.0
PRODID:-//ChamberMaster//Event Calendar 2.0//EN
METHOD:PUBLISH
X-PUBLISHED-TTL:P3D
REFRESH-INTERVAL:P3D
CALSCALE:GREGORIAN
BEGIN:VEVENT
DTSTART;VALUE=DATE:20090528
DTEND;VALUE=DATE:20090529
TRANSP:TRANSPARENT
X-MICROSOFT-CDO-ALLDAYEVENT:TRUE
SUMMARY:City of Chicago Chapter's Fine Art\, Wine & Cheese Reception
DESCRIPTION:A Networking Event for Chicago Area Builders\, Developers and Trades  Join us for a tour of work on display from the Ruttenberg family art collection and a glimpse into the vast photography collection of the late David C. & Sarajean Ruttenberg.  Following hors d'oeuvres\, we will host an intimate print viewing of the collections' highlights\, which includes well-known and rarely seen works by local and international artists. Thursday\, May 28th 6:00pm Wine & Cheese 7:00pm Art Tour Belgravia Group\, Inc. 833 N. Orleans\, Ste 400 Chicago\, IL
X-ALT-DESC;FMTTYPE=text/html:A Networking Event for Chicago Area Builders\, Developers and Trades  Join us for a tour of work on display from the Ruttenberg family art collection and a glimpse into the vast photography collection of the late David C. &amp\; Sarajean Ruttenberg.&nbsp\; Following hors d&rsquo\;oeuvres\, we will host an intimate print viewing of the collections&rsquo\; highlights\, which includes well-known and rarely seen works by local and international artists. Thursday\, May 28th 6:00pm Wine &amp\; Cheese 7:00pm Art Tour Belgravia Group\, Inc. 833 N. Orleans\, Ste 400 Chicago\, IL
LOCATION:833 N. Orleans Chicago\, IL 60610
UID:e.9259.23
SEQUENCE:3
DTSTAMP:20260422T192418Z
URL:https://members.biagc.org/events/details/city-of-chicago-chapter-s-fine-art-wine-cheese-reception-05-28-2009-23
END:VEVENT

END:VCALENDAR
