BEGIN:VCALENDAR
VERSION:2.0
PRODID:-//ChamberMaster//Event Calendar 2.0//EN
METHOD:PUBLISH
X-PUBLISHED-TTL:P3D
REFRESH-INTERVAL:P3D
CALSCALE:GREGORIAN
BEGIN:VEVENT
DTSTART;VALUE=DATE:20231011
DTEND;VALUE=DATE:20231013
TRANSP:TRANSPARENT
X-MICROSOFT-CDO-ALLDAYEVENT:TRUE
SUMMARY:Chicago Build Expo 2023
DESCRIPTION:Chicago Build offers a totally unique experience over the two days\, featuring:\n\n25\,000+ pre-registered visitors from contractors\, architects\, civil engineers\, developers\, local councils\, house builders/associations and construction professionals\n\n400+ high-level speakers across 8 conference stages including Future of Construction\, BIM & Digital\, Fire Safety\, Sustainability\, Diversity & Inclusion and more\n\n\n\nAIA CES approved workshops\n\n\n\nThe biggest Festival of Construction in the Midwest with DJs\, musicians\, live performances\, food and drinks trail\, entertainment and competitions \n\n\n\nArchitect's Hub with project displays and 3D models of upcoming projects from leading architects across the Midwest\n\n\n\nThe latest insights and updates on major upcoming construction projects and opportunities across the Midwest\n\n\n\nExclusive networking events to grow your connections\n\n\n\nThe largest gathering in the Midwest for Women in Construction and Diversity in Construction\n\n\n\nAn inclusive Ambassador Program supporting Women in Construction and Diversity in Construction\n\n\n\n250+ exhibitors showcasing the latest services\, products and innovations transforming the industry
X-ALT-DESC;FMTTYPE=text/html:<br />\nChicago Build offers a totally unique experience over the two days\, featuring:<br />\n25\,000+ pre-registered visitors from contractors\, architects\, civil engineers\, developers\, local councils\, house builders/associations and construction professionals<br />\n400+ high-level speakers across 8 conference stages including Future of Construction\, BIM &amp\; Digital\, Fire Safety\, Sustainability\, Diversity &amp\; Inclusion and more<br />\n<br />\nAIA CES approved workshops<br />\n<br />\nThe biggest Festival of Construction in the Midwest with DJs\, musicians\, live performances\, food and drinks trail\, entertainment and competitions&nbsp\;<br />\n<br />\nArchitect&rsquo\;s Hub with project displays and 3D models of upcoming projects from leading architects across the Midwest<br />\n<br />\nThe latest insights and updates on major upcoming construction projects and opportunities across the Midwest<br />\n<br />\nExclusive networking events to grow your connections<br />\n<br />\nThe largest gathering in the Midwest for Women in Construction and Diversity in Construction<br />\n<br />\nAn inclusive Ambassador Program supporting Women in Construction and Diversity in Construction<br />\n<br />\n250+ exhibitors showcasing the latest services\, products and innovations transforming the industry
LOCATION:Hall D2\, Lakeside Center Level 3 McCormick Place\, 2301 S. Dr. Martin Luther King Jr. (MLK) Drive Chicago\, IL\, 60616\, USA
UID:e.9259.4204
SEQUENCE:3
DTSTAMP:20260423T022056Z
URL:https://members.biagc.org/events/details/chicago-build-expo-2023-4204
END:VEVENT

END:VCALENDAR
