BEGIN:VCALENDAR
VERSION:2.0
PRODID:-//ChamberMaster//Event Calendar 2.0//EN
METHOD:PUBLISH
X-PUBLISHED-TTL:P3D
REFRESH-INTERVAL:P3D
CALSCALE:GREGORIAN
BEGIN:VEVENT
DTSTART;VALUE=DATE:20100908
DTEND;VALUE=DATE:20100909
TRANSP:TRANSPARENT
X-MICROSOFT-CDO-ALLDAYEVENT:TRUE
SUMMARY:Building News Ads
DESCRIPTION:
X-ALT-DESC;FMTTYPE=text/html:
LOCATION:5999 S. New Wilke Rd. Suite 104 Rolling Meadows\, IL 60008
UID:e.9259.57
SEQUENCE:3
DTSTAMP:20260421T042953Z
URL:https://members.biagc.org/events/details/building-news-ads-09-08-2010-57
END:VEVENT

END:VCALENDAR
