BEGIN:VCALENDAR
VERSION:2.0
PRODID:-//ChamberMaster//Event Calendar 2.0//EN
METHOD:PUBLISH
X-PUBLISHED-TTL:P3D
REFRESH-INTERVAL:P3D
CALSCALE:GREGORIAN
BEGIN:VEVENT
DTSTART;VALUE=DATE:20100917
DTEND;VALUE=DATE:20100918
TRANSP:TRANSPARENT
X-MICROSOFT-CDO-ALLDAYEVENT:TRUE
SUMMARY:2010 Key Awards
DESCRIPTION:
X-ALT-DESC;FMTTYPE=text/html:
LOCATION:5999 S. New Wilke Rd. Suite 104 Rolling Meadows\, IL 60008
UID:e.9259.4
SEQUENCE:3
DTSTAMP:20260421T034630Z
URL:https://members.biagc.org/events/details/2010-key-awards-09-17-2010-4
END:VEVENT

END:VCALENDAR
